BEGIN:VCALENDAR
VERSION:2.0
PRODID:-//pretix//pretix.eu//
BEGIN:VTIMEZONE
TZID:Europe/London
BEGIN:STANDARD
DTSTART:20001029T030000
RRULE:FREQ=YEARLY;BYDAY=-1SU;BYMONTH=10
TZNAME:GMT
TZOFFSETFROM:+0100
TZOFFSETTO:+0000
END:STANDARD
BEGIN:DAYLIGHT
DTSTART:20000326T020000
RRULE:FREQ=YEARLY;BYDAY=-1SU;BYMONTH=3
TZNAME:BST
TZOFFSETFROM:+0000
TZOFFSETTO:+0100
END:DAYLIGHT
END:VTIMEZONE
BEGIN:VEVENT
UID:pretix-formosasalon-thetomatogirl-0@tickets.formosasalon.org.uk
DTSTART;TZID=Europe/London:20231028T130000
DTEND;TZID=Europe/London:20231028T160000
DESCRIPTION:Tickets: https://tickets.formosasalon.org.uk/thetomatogirl/\nOr
 ganizer: 倫敦講臺 Formosa Salon
DTSTAMP:20260423T084046Z
LOCATION:Nunn Hall\, IOE\, UCL’s Faculty of Education and Society（20 Be
 dford Way\, Bloomsbury\, London WC1H 0AL）
SUMMARY:「海都是海」短片放映暨製片＆導演座談
END:VEVENT
END:VCALENDAR
