BEGIN:VCALENDAR
VERSION:2.0
PRODID:-//pretix//pretix.eu//
BEGIN:VTIMEZONE
TZID:Europe/London
BEGIN:STANDARD
DTSTART:20001029T030000
RRULE:FREQ=YEARLY;BYDAY=-1SU;BYMONTH=10
TZNAME:GMT
TZOFFSETFROM:+0100
TZOFFSETTO:+0000
END:STANDARD
BEGIN:DAYLIGHT
DTSTART:20000326T020000
RRULE:FREQ=YEARLY;BYDAY=-1SU;BYMONTH=3
TZNAME:BST
TZOFFSETFROM:+0000
TZOFFSETTO:+0100
END:DAYLIGHT
END:VTIMEZONE
BEGIN:VEVENT
UID:pretix-formosasalon-taiwan-travelogue-study-group-0@tickets.formosasalo
 n.org.uk
DTSTART;TZID=Europe/London:20250517T140000
DTEND;TZID=Europe/London:20250517T150000
DESCRIPTION:Tickets: https://tickets.formosasalon.org.uk/taiwan-travelogue-
 study-group/\nOrganizer: 倫敦講臺 Formosa Salon
DTSTAMP:20260426T042255Z
LOCATION:SE 1.02\, Bush House South East Wing\, London WC2R 1ES
SUMMARY:《臺灣漫遊錄》讀書會
END:VEVENT
END:VCALENDAR
