BEGIN:VCALENDAR
VERSION:2.0
PRODID:-//pretix//pretix.eu//
BEGIN:VTIMEZONE
TZID:Europe/London
BEGIN:STANDARD
DTSTART:20001029T030000
RRULE:FREQ=YEARLY;BYDAY=-1SU;BYMONTH=10
TZNAME:GMT
TZOFFSETFROM:+0100
TZOFFSETTO:+0000
END:STANDARD
BEGIN:DAYLIGHT
DTSTART:20000326T020000
RRULE:FREQ=YEARLY;BYDAY=-1SU;BYMONTH=3
TZNAME:BST
TZOFFSETFROM:+0000
TZOFFSETTO:+0100
END:DAYLIGHT
END:VTIMEZONE
BEGIN:VEVENT
UID:pretix-formosasalon-pride2025-design-day-0@tickets.formosasalon.org.uk
DTSTART;TZID=Europe/London:20250628T130000
DTEND;TZID=Europe/London:20250628T163000
DESCRIPTION:Tickets: https://tickets.formosasalon.org.uk/pride2025-design-d
 ay/\nOrganizer: 倫敦講臺 Formosa Salon
DTSTAMP:20260423T154228Z
LOCATION:MB 1.03 Macadam Building London WC2R 2LS （入口位於Strand Building）
SUMMARY:倫敦講臺 x Pride in London 2025 行前美工日
END:VEVENT
END:VCALENDAR
