BEGIN:VCALENDAR
VERSION:2.0
PRODID:-//pretix//pretix.eu//
BEGIN:VTIMEZONE
TZID:Europe/London
BEGIN:STANDARD
DTSTART:20001029T030000
RRULE:FREQ=YEARLY;BYDAY=-1SU;BYMONTH=10
TZNAME:GMT
TZOFFSETFROM:+0100
TZOFFSETTO:+0000
END:STANDARD
BEGIN:DAYLIGHT
DTSTART:20000326T020000
RRULE:FREQ=YEARLY;BYDAY=-1SU;BYMONTH=3
TZNAME:BST
TZOFFSETFROM:+0000
TZOFFSETTO:+0100
END:DAYLIGHT
END:VTIMEZONE
BEGIN:VEVENT
UID:pretix-formosasalon-living-In-between-explore-identity-through-drama-t-
 0@tickets.formosasalon.org.uk
DTSTART;TZID=Europe/London:20240203T133000
DTEND;TZID=Europe/London:20240203T163000
DESCRIPTION:Tickets: https://tickets.formosasalon.org.uk/living-In-between-
 explore-identity-through-drama-t/\nOrganizer: 倫敦講臺 Formosa Salon
DTSTAMP:20260420T142702Z
LOCATION:S209 Paul Webley Wing (SOAS Senate House North Block)\, London WC1
 E 7HX
SUMMARY:介於之間：從戲劇治療探索身份認同 Living In between:
  explore identity through drama therapy
END:VEVENT
END:VCALENDAR
