BEGIN:VCALENDAR
VERSION:2.0
PRODID:-//pretix//pretix.eu//
BEGIN:VTIMEZONE
TZID:Europe/London
BEGIN:STANDARD
DTSTART:20001029T030000
RRULE:FREQ=YEARLY;BYDAY=-1SU;BYMONTH=10
TZNAME:GMT
TZOFFSETFROM:+0100
TZOFFSETTO:+0000
END:STANDARD
BEGIN:DAYLIGHT
DTSTART:20000326T020000
RRULE:FREQ=YEARLY;BYDAY=-1SU;BYMONTH=3
TZNAME:BST
TZOFFSETFROM:+0000
TZOFFSETTO:+0100
END:DAYLIGHT
END:VTIMEZONE
BEGIN:VEVENT
UID:pretix-formosasalon-hand-in-hand-0@tickets.formosasalon.org.uk
DTSTART;TZID=Europe/London:20260228T133000
DTEND;TZID=Europe/London:20260228T143000
DESCRIPTION:Tickets: https://tickets.formosasalon.org.uk/hand-in-hand/\nOrg
 anizer: 倫敦講臺 Formosa Salon
DTSTAMP:20260421T125003Z
LOCATION:Brunei Gallery Lecture Theatre (BGLT)\, SOAS University of London
SUMMARY:倫敦講臺二二八紀念日：《牽阮的手》放映活動暨映後討論
END:VEVENT
END:VCALENDAR
