BEGIN:VCALENDAR
VERSION:2.0
PRODID:-//pretix//pretix.eu//
BEGIN:VTIMEZONE
TZID:Europe/London
BEGIN:STANDARD
DTSTART:20001029T030000
RRULE:FREQ=YEARLY;BYDAY=-1SU;BYMONTH=10
TZNAME:GMT
TZOFFSETFROM:+0100
TZOFFSETTO:+0000
END:STANDARD
BEGIN:DAYLIGHT
DTSTART:20000326T020000
RRULE:FREQ=YEARLY;BYDAY=-1SU;BYMONTH=3
TZNAME:BST
TZOFFSETFROM:+0000
TZOFFSETTO:+0100
END:DAYLIGHT
END:VTIMEZONE
BEGIN:VEVENT
UID:pretix-formosasalon-curating-taiwan-history-exhibition-0@tickets.formos
 asalon.org.uk
DTSTART;TZID=Europe/London:20240413T133000
DTEND;TZID=Europe/London:20240413T163000
DESCRIPTION:Tickets: https://tickets.formosasalon.org.uk/curating-taiwan-hi
 story-exhibition/\nOrganizer: 倫敦講臺 Formosa Salon
DTSTAMP:20260423T170927Z
LOCATION:BG01 Brunei Gallery\, SOAS WC1B 5DQ
SUMMARY:如何策劃以台灣藝術史為主題的展覽
END:VEVENT
END:VCALENDAR
