BEGIN:VCALENDAR
VERSION:2.0
PRODID:-//pretix//pretix.eu//
BEGIN:VTIMEZONE
TZID:Europe/London
BEGIN:STANDARD
DTSTART:20001029T030000
RRULE:FREQ=YEARLY;BYDAY=-1SU;BYMONTH=10
TZNAME:GMT
TZOFFSETFROM:+0100
TZOFFSETTO:+0000
END:STANDARD
BEGIN:DAYLIGHT
DTSTART:20000326T020000
RRULE:FREQ=YEARLY;BYDAY=-1SU;BYMONTH=3
TZNAME:BST
TZOFFSETFROM:+0000
TZOFFSETTO:+0100
END:DAYLIGHT
END:VTIMEZONE
BEGIN:VEVENT
UID:pretix-formosasalon-cop-policy-makiny-0@tickets.formosasalon.org.uk
DTSTART;TZID=Europe/London:20240316T133000
DTEND;TZID=Europe/London:20240316T163000
DESCRIPTION:Tickets: https://tickets.formosasalon.org.uk/cop-policy-makiny/
 \nOrganizer: 倫敦講臺 Formosa Salon
DTSTAMP:20260426T041144Z
LOCATION:B103 Brunei Gallery\, SOAS WC1B 5DQ
SUMMARY:從國家政策制定者的觀點反思聯合國氣候變遷大會
 （COP）| A reflection of UNFCCC COP from a national policy maker’s per
 spective
END:VEVENT
END:VCALENDAR
