BEGIN:VCALENDAR
VERSION:2.0
PRODID:-//pretix//pretix.eu//
BEGIN:VTIMEZONE
TZID:Europe/London
BEGIN:STANDARD
DTSTART:20001029T030000
RRULE:FREQ=YEARLY;BYDAY=-1SU;BYMONTH=10
TZNAME:GMT
TZOFFSETFROM:+0100
TZOFFSETTO:+0000
END:STANDARD
BEGIN:DAYLIGHT
DTSTART:20000326T020000
RRULE:FREQ=YEARLY;BYDAY=-1SU;BYMONTH=3
TZNAME:BST
TZOFFSETFROM:+0000
TZOFFSETTO:+0100
END:DAYLIGHT
END:VTIMEZONE
BEGIN:VEVENT
UID:pretix-formosasalon-and-miles-before-I-sleep-0@tickets.formosasalon.org
 .uk
DTSTART;TZID=Europe/London:20250118T130000
DTEND;TZID=Europe/London:20250118T140000
DESCRIPTION:Tickets: https://tickets.formosasalon.org.uk/and-miles-before-I
 -sleep/\nOrganizer: 倫敦講臺 Formosa Salon
DTSTAMP:20260420T125100Z
LOCATION:K0.20\, King’s Building\, London WC2R 2LS (入口位於Strand Building)
SUMMARY:《九槍》紀錄片放映＋導演線上Q&A
END:VEVENT
END:VCALENDAR
